BEGIN:VCALENDAR
VERSION:2.0
PRODID:-//artifica.one//Behren-lès-Forbach//FR
CALSCALE:GREGORIAN
METHOD:PUBLISH
BEGIN:VEVENT
SUMMARY:HEURE DU CONTE SPÉCIALE 📚 | ANNA TABONE
UID:3599
SEQUENCE:0
STATUS:CONFIRMED
TRANSP:TRANSPARENT
DTSTART:20260429T080000Z
DTEND:20260429T090000Z
DTSTAMP:20260422T080111Z
CATEGORIES:Loisirs
LOCATION:Bibliothèque Municipale Paul Bienvenu
 Rue Saint Blaise
 57460 Behren-les-forbach 
GEO:49.175571;6.933201
DESCRIPTION:La bibliothèque a le plaisir d'accueillir Anna Ta
 bone, auteure originaire de Behren !
URL:https://www.ville-behren.fr/agenda/heure-du-conte-speciale-anna-tabone-3599
END:VEVENT
END:VCALENDAR
