BEGIN:VCALENDAR
VERSION:2.0
PRODID:-//artifica.one//Behren-lès-Forbach//FR
CALSCALE:GREGORIAN
METHOD:PUBLISH
BEGIN:VEVENT
SUMMARY:SOIRÉE À L'ANCIENNE | AIPE
UID:3591
SEQUENCE:0
STATUS:CONFIRMED
TRANSP:TRANSPARENT
DTSTART:20260509T180000Z
DTEND:20260508T220000Z
DTSTAMP:20260421T094219Z
CATEGORIES:Vie associative
LOCATION:Maison des associations (M.D.A)
 Boulevard Charlemagne
 57460 Behren-lès-Forbach 
GEO:49.172554;6.934171
DESCRIPTION:
URL:https://www.ville-behren.fr/agenda/soiree-a-l-ancienne-aipe-3591
END:VEVENT
END:VCALENDAR
