BEGIN:VCALENDAR
VERSION:2.0
PRODID:-//artifica.one//Behren-lès-Forbach//FR
CALSCALE:GREGORIAN
METHOD:PUBLISH
BEGIN:VEVENT
SUMMARY:EXPOSITION PHOTOGRAPHIQUE ET POÉTIQUE À LA BIBLI
 OTHÈQUE MUNICIPALE
UID:3502
SEQUENCE:0
STATUS:CONFIRMED
TRANSP:TRANSPARENT
DTSTART:20260310T070000Z
DTEND:20260327T190000Z
DTSTAMP:20260309T151013Z
CATEGORIES:Culture
LOCATION:Bibliothèque Municipale Paul Bienvenu
 Rue Saint Blaise
 57460 Behren-les-forbach 
GEO:49.175571;6.933201
DESCRIPTION:Les artistes Veronique Schiel, photographe, et Coc
 o San, poetesse, se sont associees pour une collab
 oration poetique.
URL:https://www.ville-behren.fr/agenda/exposition-photographique-et-poetique-a-la-bibliotheque-municipale-3502
END:VEVENT
END:VCALENDAR
