BEGIN:VCALENDAR
VERSION:2.0
PRODID:-//artifica.one//Behren-lès-Forbach//FR
CALSCALE:GREGORIAN
METHOD:PUBLISH
BEGIN:VEVENT
SUMMARY:LOTO DES ENFANTS
UID:3405
SEQUENCE:0
STATUS:CONFIRMED
TRANSP:TRANSPARENT
DTSTART:20260211T130000Z
DTEND:20260211T153000Z
DTSTAMP:20260119T095801Z
CATEGORIES:Animation
LOCATION:Maison des associations (M.D.A)
 Boulevard Charlemagne
 57460 Behren-lès-Forbach 
GEO:49.172554;6.934171
DESCRIPTION:La Ville organise son traditionnel loto enfants à
  la Maison des Associations. Monsieur Margherita a
 ux commandes, fera gagner de superbes lots aux plu
 s chanceux des participants !
URL:https://www.ville-behren.fr/agenda/loto-des-enfants-3405
END:VEVENT
END:VCALENDAR
