BEGIN:VCALENDAR
VERSION:2.0
PRODID:-//artifica.one//Behren-lès-Forbach//FR
CALSCALE:GREGORIAN
METHOD:PUBLISH
BEGIN:VEVENT
SUMMARY:JEAN-MARIE BIGARD À BEHREN-LÈS-FORBACH
UID:3101
SEQUENCE:0
STATUS:CONFIRMED
TRANSP:TRANSPARENT
DTSTART:20251108T193000Z
DTEND:20251108T213000Z
DTSTAMP:20250709T093020Z
CATEGORIES:Quoi de neuf ?
LOCATION:Salle Culturelle
 Rue du petit bois
 57460 Behren-Lès-Forbach FR
GEO:49.16848;6.927313
DESCRIPTION:
URL:https://www.ville-behren.fr/agenda/jean-marie-bigard-a-behren-les-forbach-3101
END:VEVENT
END:VCALENDAR
